BEGIN:VCALENDAR
VERSION:2.0
PRODID:-//Squarespace Inc/Squarespace 6//v6//EN
BEGIN:VEVENT
UID:5ba88c248165f56e068bbcc8@squarespace.com
DTSTAMP:20181105T014853Z
DTSTART:20181116T230000Z
DTEND:20181117T003000Z
SUMMARY:Founding Day - 10th Anniversary
GEO:29.758202;-95.362829
LOCATION:CQ Hotel\, 223 Cuba Street\, Wellington\, Wellington\, 6011\, New 
 Zealand
END:VEVENT
END:VCALENDAR
