BEGIN:VCALENDAR
VERSION:2.0
PRODID:-//Squarespace Inc/Squarespace 6//v6//EN
BEGIN:VEVENT
UID:5b7510088a922db16ab91b0c@squarespace.com
DTSTAMP:20180924T064317Z
DTSTART:20180911T220000Z
DTEND:20180911T233000Z
SUMMARY:ICW Forum: Designing for inner city living environments
GEO:-41.295603;174.774569
LOCATION:CQ Hotels Wellington\, 233 Cuba Street\, Wellington\, New Zealand
END:VEVENT
END:VCALENDAR
