BEGIN:VCALENDAR
VERSION:2.0
PRODID:-//Squarespace Inc/Squarespace 6//v6//EN
BEGIN:VEVENT
UID:5af930560e2e72b885c2bea0@squarespace.com
DTSTAMP:20180924T064212Z
DTSTART:20180619T220000Z
DTEND:20180619T233000Z
SUMMARY:ICW Forum: Living Environments in Our City Tomorrow 
GEO:-41.295404;174.774688
LOCATION:CQ Hotel\, 223 Cuba Street\, Wellington\, Wellington\, 6011\, New 
 Zealand
END:VEVENT
END:VCALENDAR
