BEGIN:VCALENDAR
VERSION:2.0
PRODID:-//Squarespace Inc/Squarespace 6//v6//EN
BEGIN:VEVENT
UID:5ac16f6f352f5337a070f582@squarespace.com
DTSTAMP:20180408T032532Z
DTSTART:20180416T220000Z
DTEND:20180416T230000Z
SUMMARY:Strategy update and the AGM
GEO:-41.295404;174.774688
LOCATION:CQ Hotel\, 223 Cuba Street\, Wellington\, Wellington\, 6011\, New 
 Zealand
END:VEVENT
END:VCALENDAR
