BEGIN:VCALENDAR
VERSION:2.0
PRODID:-//Squarespace Inc/Squarespace 6//v6//EN
BEGIN:VEVENT
UID:5a84904a9140b7746b23a239@squarespace.com
DTSTAMP:20180217T052406Z
DTSTART:20180308T230000Z
DTEND:20180309T003000Z
SUMMARY:Living Environments in Our City Tomorrow
GEO:-41.295404;174.774688
LOCATION:CQ Hotel\, 223 Cuba Street\, Wellington\, Wellington\, 6011\, New 
 Zealand
END:VEVENT
END:VCALENDAR
