BEGIN:VCALENDAR
VERSION:2.0
PRODID:-//Squarespace Inc/Squarespace 6//v6//EN
BEGIN:VEVENT
UID:5aad840503ce64db74d0f556@squarespace.com
DTSTAMP:20180317T212057Z
DTSTART:20180405T130000Z
DTEND:20180405T200000Z
SUMMARY:Public Forum on Alcohol-related Submission Opportunities 
GEO:-41.272915;174.785968
LOCATION:Westpac Stadium\, 147 Waterloo Quay\, Wellington\, Wellington\, 60
 11\, New Zealand
END:VEVENT
END:VCALENDAR
