BEGIN:VCALENDAR
VERSION:2.0
PRODID:-//Squarespace Inc/Squarespace 6//v6//EN
BEGIN:VEVENT
UID:5903e0e4b3db2ba7eaf37b99@squarespace.com
DTSTAMP:20170429T004209Z
DTSTART:20170613T220000Z
DTEND:20170613T230000Z
SUMMARY:ICW Committee Meeting
GEO:-41.29544;174.774763
LOCATION:CQ Hotel\, 223 Cuba St\, Wellington\, Wellington\, 6011\, New Zeal
 and
END:VEVENT
END:VCALENDAR
