BEGIN:VCALENDAR
VERSION:2.0
PRODID:-//Squarespace Inc/Squarespace 6//v6//EN
BEGIN:VEVENT
UID:59165b68cd0f68c07c25612e@squarespace.com
DTSTAMP:20170513T011346Z
DTSTART:20170516T220000Z
DTEND:20170517T000000Z
SUMMARY:Wellington Cycleways - Oriental Bay
GEO:-41.288146;174.776659
LOCATION:Wellington City Library\, Second floor conference room\, 65 Victor
 ia Street\, Wellington\, Wellington\, 6011\, New Zealand
END:VEVENT
END:VCALENDAR
