BEGIN:VCALENDAR
VERSION:2.0
PRODID:-//Squarespace Inc/Squarespace 6//v6//EN
BEGIN:VEVENT
UID:5903dfb1c534a5c0bcced1e6@squarespace.com
DTSTAMP:20170429T003929Z
DTSTART:20170509T220000Z
DTEND:20170509T230000Z
SUMMARY:ICW Committee Meeting
GEO:-41.295436;174.774768
LOCATION:CQ Hotel\, 223 Cuba St\, Wellington\, Wellington\, 6011\, New Zeal
 and
END:VEVENT
END:VCALENDAR
