BEGIN:VCALENDAR
VERSION:2.0
PRODID:-//Squarespace Inc/Squarespace 6//v6//EN
BEGIN:VEVENT
UID:58e1f09f1b631bf0ffe33226@squarespace.com
DTSTAMP:20170403T075548Z
DTSTART:20170426T220000Z
DTEND:20170426T233000Z
SUMMARY:Launch of new name\, strategic plan and website
GEO:-41.295437;174.77478
LOCATION:CQ Hotel\, 213-223 Cuba Street\, Wellington\, Wellington\, 6011\, 
 New Zealand
END:VEVENT
END:VCALENDAR
