BEGIN:VCALENDAR
VERSION:2.0
PRODID:-//Squarespace Inc/Squarespace 6//v6//EN
BEGIN:VEVENT
UID:58f5656920099ed0c8eb961c@squarespace.com
DTSTAMP:20170418T010758Z
DTSTART:20170419T140000Z
DTEND:20170419T160000Z
SUMMARY:Bond Street autumn refresh
GEO:-41.288898;174.775249
LOCATION:Community Garden\, 8 Bond St\, Wellington\, Wellington\, 6011\, Ne
 w Zealand
END:VEVENT
END:VCALENDAR
