BEGIN:VCALENDAR
VERSION:2.0
PRODID:-//Squarespace Inc/Squarespace 6//v6//EN
BEGIN:VEVENT
UID:5903e39f20099e96373d1378@squarespace.com
DTSTAMP:20170702T032442Z
DTSTART:20171114T230000Z
DTEND:20171115T000000Z
SUMMARY:ICW Committee Meeting - CQ Hotel
GEO:-41.295436;174.774763
LOCATION:CQ Hotel\, 223 Cuba St\, Wellington\, Wellington\, 6011\, New Zeal
 and
END:VEVENT
END:VCALENDAR
