BEGIN:VCALENDAR
VERSION:2.0
PRODID:-//Squarespace Inc/Squarespace 6//v6//EN
BEGIN:VEVENT
UID:5903e30415d5db2857cd1ee6@squarespace.com
DTSTAMP:20170702T032343Z
DTSTART:20170912T220000Z
DTEND:20170912T230000Z
SUMMARY:ICW Committee Meeting - Thistle Hall Community Venue
GEO:-41.297358;174.773666
LOCATION:Thistle Hall Community Venue\, 293 Cuba Street\, Wellington\, 6011
 \, New Zealand
END:VEVENT
END:VCALENDAR
