BEGIN:VCALENDAR
VERSION:2.0
PRODID:-//Squarespace Inc/Squarespace 6//v6//EN
BEGIN:VEVENT
UID:5903e26e17bffc3ea33f1b9d@squarespace.com
DTSTAMP:20170702T025219Z
DTSTART:20170808T220000Z
DTEND:20170808T230000Z
SUMMARY:ICW Committee Meeting - CQ Hotel
GEO:-41.295444;174.774731
LOCATION:CQ Hotel\, 225 Cuba St\, Wellington\, Wellington\, 6011\, New Zeal
 and
END:VEVENT
END:VCALENDAR
