BEGIN:VCALENDAR
VERSION:2.0
PRODID:-//Squarespace Inc/Squarespace 6//v6//EN
BEGIN:VEVENT
UID:596af3a2d1758e1c68fb0c57@squarespace.com
DTSTAMP:20170811T025714Z
DTSTART:20170815T220000Z
DTEND:20170816T000000Z
SUMMARY:Meet the 2017 Wellington Central Electoral Candidates - updated
GEO:-41.295404;174.774688
LOCATION:CQ Hotel\, 223 Cuba Street\, Wellington\, Wellington\, 6011\, New 
 Zealand
END:VEVENT
END:VCALENDAR
