BEGIN:VCALENDAR
VERSION:2.0
PRODID:-//Squarespace Inc/Squarespace 6//v6//EN
BEGIN:VEVENT
UID:59420ac31b10e3d99c353a57@squarespace.com
DTSTAMP:20170702T033338Z
DTSTART:20170711T220000Z
DTEND:20170711T233000Z
SUMMARY:ICW Committee Meeting - Thistle Hall Community Venue
GEO:-41.297358;174.773666
LOCATION:Thistle Hall Community Venue\, 293 Cuba Street\, Wellington\, 6011
 \, New Zealand
END:VEVENT
END:VCALENDAR
