BEGIN:VCALENDAR
VERSION:2.0
PRODID:-//Squarespace Inc/Squarespace 6//v6//EN
BEGIN:VEVENT
UID:594200b38419c24dd946f386@squarespace.com
DTSTAMP:20170812T194618Z
DTSTART:20170623T213000Z
DTEND:20170623T233000Z
SUMMARY:What is being done to stem the housing crisis in Wellington?
GEO:-41.268553;174.781287
LOCATION:Woolstore Design Centre Level 1\, 262 Thorndon Quay\, Wellington\, 
 Wellington\, 6011\, New Zealand
END:VEVENT
END:VCALENDAR
