BEGIN:VCALENDAR
VERSION:2.0
PRODID:-//Squarespace Inc/Squarespace 6//v6//EN
BEGIN:VEVENT
UID:598f5b0ab8a79be1b6de4c17@squarespace.com
DTSTAMP:20170812T200358Z
DTSTART:20170814T220000Z
DTEND:20170815T000000Z
SUMMARY:NZIA City Talks: Low Downs and Slap Downs on the Sea Side with Andr
 é Bishop
GEO:-41.289118;174.776666
LOCATION:City Gallery Civic Square\, 101 Wakefield Street\, Wellington\, We
 llington\, 6011\, New Zealand
END:VEVENT
END:VCALENDAR
