BEGIN:VCALENDAR
VERSION:2.0
PRODID:-//Squarespace Inc/Squarespace 6//v6//EN
BEGIN:VEVENT
UID:58f800edc534a5c250c13093@squarespace.com
DTSTAMP:20170420T004010Z
DTSTART:20170504T220000Z
DTEND:20170504T233000Z
SUMMARY:Commercial property (demystified)
GEO:-41.288698;174.775817
LOCATION:Level 2\, Dominion Building\, 78 Victoria Street\, Wellington\, We
 llington\, 6011\, New Zealand
END:VEVENT
END:VCALENDAR
