BEGIN:VCALENDAR
VERSION:2.0
PRODID:-//Squarespace Inc/Squarespace 6//v6//EN
BEGIN:VEVENT
UID:58c357adbebafb01e03b473d@squarespace.com
DTSTAMP:20170311T015307Z
DTSTART:20170321T220000Z
DTEND:20170321T233000Z
SUMMARY:Kaikoura Quake: what it means for Wellington’s inner city
END:VEVENT
END:VCALENDAR
