BEGIN:VCALENDAR
VERSION:2.0
PRODID:-//Squarespace Inc/Squarespace 6//v6//EN
BEGIN:VEVENT
UID:593f8fe7be65947cbdac9e40@squarespace.com
DTSTAMP:20171011T041956Z
DTSTART:20171103T220000Z
DTEND:20171103T233000Z
SUMMARY:Founding Day
GEO:-41.295404;174.774688
LOCATION:CQ Hotel\, 223 Cuba Street\, Wellington\, Wellington\, 6011\, New 
 Zealand
END:VEVENT
END:VCALENDAR
