BEGIN:VCALENDAR
VERSION:2.0
PRODID:-//Squarespace Inc/Squarespace 6//v6//EN
BEGIN:VEVENT
UID:5903e34b3e00be15fed87a36@squarespace.com
DTSTAMP:20170908T020440Z
DTSTART:20171010T220000Z
DTEND:20171010T230000Z
SUMMARY:ICW Committee Meeting - CQ Hotel
GEO:-41.295404;174.774688
LOCATION:CQ Hotel\, 223 Cuba Street\, Wellington\, Wellington\, 6011\, New 
 Zealand
END:VEVENT
END:VCALENDAR
